BEGIN:VCALENDAR
X-LOTUS-CHARSET:UTF-8
VERSION:2.0
PRODID:4WsNetdesignCalendar-kolleg-st-sebastian.de
METHOD:PUBLISH
CALSCALE:GREGORIAN
X-WR-TIMEZONE:Europe/Berlin
BEGIN:VTIMEZONE
TZID:Europe/Berlin
X-LIC-LOCATION:Europe/Berlin
BEGIN:DAYLIGHT
TZOFFSETFROM:+0100
TZOFFSETTO:+0200
TZNAME:CEST
DTSTART:19700329T020000
RRULE:FREQ=YEARLY;INTERVAL=1;BYDAY=-1SU;BYMONTH=3
END:DAYLIGHT
BEGIN:STANDARD
TZOFFSETFROM:+0200
TZOFFSETTO:+0100
TZNAME:CET
DTSTART:19701025T030000
RRULE:FREQ=YEARLY;INTERVAL=1;BYDAY=-1SU;BYMONTH=10
END:STANDARD
END:VTIMEZONE
BEGIN:VEVENT
UID:0934416001777037534@kolleg-st-sebastian.de3750388632
CLASS:PUBLIC
DTSTAMP:20260424T133214Z
DTSTART:20260627T160000Z
SUMMARY:Konzert des Eltern-Lehrer-Schüler Chores, des
  Orchesters sowie dem Mittel- und Oberstufenchor in der
  Pfarrkirche in Stegen
END:VEVENT
END:VCALENDAR
